BEGIN:VCALENDAR
VERSION:2.0
PRODID:-//Human Development Institute - ECPv6.15.20//NONSGML v1.0//EN
CALSCALE:GREGORIAN
METHOD:PUBLISH
X-WR-CALNAME:Human Development Institute
X-ORIGINAL-URL:https://hdi.uky.edu
X-WR-CALDESC:Events for Human Development Institute
REFRESH-INTERVAL;VALUE=DURATION:PT1H
X-Robots-Tag:noindex
X-PUBLISHED-TTL:PT1H
BEGIN:VTIMEZONE
TZID:America/New_York
BEGIN:DAYLIGHT
TZOFFSETFROM:-0500
TZOFFSETTO:-0400
TZNAME:EDT
DTSTART:20250309T070000
END:DAYLIGHT
BEGIN:STANDARD
TZOFFSETFROM:-0400
TZOFFSETTO:-0500
TZNAME:EST
DTSTART:20251102T060000
END:STANDARD
BEGIN:DAYLIGHT
TZOFFSETFROM:-0500
TZOFFSETTO:-0400
TZNAME:EDT
DTSTART:20260308T070000
END:DAYLIGHT
BEGIN:STANDARD
TZOFFSETFROM:-0400
TZOFFSETTO:-0500
TZNAME:EST
DTSTART:20261101T060000
END:STANDARD
BEGIN:DAYLIGHT
TZOFFSETFROM:-0500
TZOFFSETTO:-0400
TZNAME:EDT
DTSTART:20270314T070000
END:DAYLIGHT
BEGIN:STANDARD
TZOFFSETFROM:-0400
TZOFFSETTO:-0500
TZNAME:EST
DTSTART:20271107T060000
END:STANDARD
END:VTIMEZONE
BEGIN:VEVENT
DTSTART;TZID=America/New_York:20260421T120000
DTEND;TZID=America/New_York:20260421T130000
DTSTAMP:20260420T115928
CREATED:20260319T201434Z
LAST-MODIFIED:20260319T201436Z
UID:8938-1776772800-1776776400@hdi.uky.edu
SUMMARY:Enabling Employment Opportunity with Immersive Technology: Learn at Lunch
DESCRIPTION:Presenter: Matthew Chaussee\, CEO\, CareerViewXR \n\n\n\nAttendees will gain practical strategies to promote employment opportunities by: \n\n\n\n\nExploring the use of immersive technologies\n\n\n\nIncreasing awareness of assistive technology solutions\n\n\n\nUnderstanding how these tools can be effectively applied in business and workplace settings\n\n\n\n\nThe Training Innovation Project\, in partnership with the Kentucky Employment First Council\, presents Learn at Lunch. These sessions are designed for rehabilitation professionals and employers to connect\, learn\, and share ideas in a relaxed space with others in the field.
URL:https://hdi.uky.edu/event/enabling-employment-opportunity-with-immersive-technology-learn-at-lunch/
END:VEVENT
BEGIN:VEVENT
DTSTART;TZID=America/New_York:20260422T093000
DTEND;TZID=America/New_York:20260422T103000
DTSTAMP:20260420T115928
CREATED:20260410T132059Z
LAST-MODIFIED:20260410T132416Z
UID:9027-1776850200-1776853800@hdi.uky.edu
SUMMARY:Work\, Waivers\, and STABLE Kentucky Webinar: Supported Employment Training Project (SETP)
DESCRIPTION:Learn how having a job can still work with Medicaid waiver eligibility if you know the facts and not the fiction.  \n\n\n\nFacilitator:Carolyn Wheeler\, M.S.\, CPWICSupported Employment Training ProjectHuman Development Institute/University of Kentucky \n\n\n\nContinuing Education Credit:Continuing Education is offered (1 hour) for Supported Employment professionals. \n\n\n\nWho Should Attend?Case Managers in waiver programs\, state guardians\, and employment service providers are welcome to attend.
URL:https://hdi.uky.edu/event/work-waivers-and-stable-kentucky/
END:VEVENT
BEGIN:VEVENT
DTSTART;TZID=America/New_York:20260423T100000
DTEND;TZID=America/New_York:20260423T110000
DTSTAMP:20260420T115928
CREATED:20260128T152205Z
LAST-MODIFIED:20260128T152206Z
UID:8055-1776938400-1776942000@hdi.uky.edu
SUMMARY:ADA and Voting Rights: 4th Thursday ADA Talks 2026
DESCRIPTION:Monthly webinars on topics about the Americans with Disabilities Act (ADA)\, disability rights\, and access that run for 1 hour on the 4th Thursday from January to October 2026 (10 webinars). Hosted By: University of Kentucky Human Development Institute (HDI)\, Southeast ADA Center\, Burton Blatt Institute (BBI) at Syracuse University.
URL:https://hdi.uky.edu/event/ada-and-voting-rights-4th-thursday-ada-talks-2026/
END:VEVENT
BEGIN:VEVENT
DTSTART;TZID=America/New_York:20260428T120000
DTEND;TZID=America/New_York:20260428T123000
DTSTAMP:20260420T115928
CREATED:20260413T192211Z
LAST-MODIFIED:20260413T192213Z
UID:9125-1777377600-1777379400@hdi.uky.edu
SUMMARY:Communities of Practice: Training Innovation Project
DESCRIPTION:Communities of Practice (COP) are groups of people who come together because \n\n\n\nthey care about improving employment opportunities for people with disabilities. \n\n\n\nMembers share ideas\, solve problems\, build skills\, and create practical tools that \n\n\n\nsupport competitive integrated employment. \n\n\n\nThe COP is meant to grow naturally over time and will eventually be led by its \n\n\n\nmembers\, giving participants the chance to shape discussions and activities around \n\n\n\nwhat matters most to them and their work.
URL:https://hdi.uky.edu/event/communities-of-practice-training-innovation-project/
LOCATION:Zoom Online
END:VEVENT
BEGIN:VEVENT
DTSTART;TZID=America/New_York:20260429T130000
DTEND;TZID=America/New_York:20260429T140000
DTSTAMP:20260420T115928
CREATED:20260306T151007Z
LAST-MODIFIED:20260306T151008Z
UID:8747-1777467600-1777471200@hdi.uky.edu
SUMMARY:Employment: Rooted & Rising In-Person Learning Opportunity
DESCRIPTION:Bridging gaps in mental healthcare for people with intellectual and developmental disabilities in Kentucky’s Appalachian Region.You are invited to learn more about mental health and overcoming challenges faced by people with developmental disabilities.Incentives available for individuals residing in some counties. Learn more by visiting the Rooted & Rising webpage.
URL:https://hdi.uky.edu/event/employment-rooted-rising-in-person-learning-opportunity/
LOCATION:Laurel County Health Department\, 525 Whitley Street\, London\, Kentucky\, 40741
END:VEVENT
BEGIN:VEVENT
DTSTART;TZID=America/New_York:20260430T151500
DTEND;TZID=America/New_York:20260430T154500
DTSTAMP:20260420T115928
CREATED:20260410T134702Z
LAST-MODIFIED:20260410T134819Z
UID:9031-1777562100-1777563900@hdi.uky.edu
SUMMARY:Kentucky Disability Benefits 101 Webinar: Supported Employment Training Project (SETP)
DESCRIPTION:About This Webinar: \n\n\n\nJoin us for a 5th Thursday coffee/tea break and learn how to use the Kentucky Disability Benefits 101 website to show the positive financial impact of employment while still maintaining a person’s eligibility for Medicaid or Medicare. \n\n\n\nQ&A will follow from 3:45 – 4:15 pm ET / 2:45 – 3:15 pm CT \n\n\n\nFacilitators: \n\n\n\nCarolyn Wheeler\, M.S.\, CPWIC \n\n\n\nSupported Employment Training ProjectHuman Development Institute/University of Kentucky \n\n\n\nJeff White\, MBA\, CPWIC \n\n\n\nQuality Assurance Coordinator for Employment ServicesDivision of Developmental & Intellectual Disabilities
URL:https://hdi.uky.edu/event/kentucky-disability-benefits-101-webinar-supported-employment-training-project-setp/
END:VEVENT
BEGIN:VEVENT
DTSTART;TZID=America/New_York:20260430T180000
DTEND;TZID=America/New_York:20260430T190000
DTSTAMP:20260420T115928
CREATED:20260306T140957Z
LAST-MODIFIED:20260306T140958Z
UID:8583-1777572000-1777575600@hdi.uky.edu
SUMMARY:Employment and Mental Health: Rooted & Rising Virtual Learning Opportunity
DESCRIPTION:Bridging gaps in mental healthcare for people with intellectual and developmental disabilities in Kentucky’s Appalachian Region.You are invited to learn more about mental health and overcoming challenges faced by people with developmental disabilities.Incentives available for individuals residing in some counties. Learn more by visiting the Rooted & Rising webpage.
URL:https://hdi.uky.edu/event/employment-and-mental-health-rooted-rising-virtual-learning-opportunity/
LOCATION:Zoom Online
END:VEVENT
END:VCALENDAR